BEGIN:VCALENDAR
VERSION:2.0
PRODID:-//ICMEC Australia - ECPv6.15.17.1//NONSGML v1.0//EN
CALSCALE:GREGORIAN
METHOD:PUBLISH
X-ORIGINAL-URL:https://icmec.org.au
X-WR-CALDESC:Events for ICMEC Australia
REFRESH-INTERVAL;VALUE=DURATION:PT1H
X-Robots-Tag:noindex
X-PUBLISHED-TTL:PT1H
BEGIN:VTIMEZONE
TZID:UTC
BEGIN:STANDARD
TZOFFSETFROM:+0000
TZOFFSETTO:+0000
TZNAME:UTC
DTSTART:20240101T000000
END:STANDARD
END:VTIMEZONE
BEGIN:VEVENT
DTSTART;TZID=UTC:20250905T090000
DTEND;TZID=UTC:20250905T160000
DTSTAMP:20260420T195500
CREATED:20250807T054841Z
LAST-MODIFIED:20251215T091826Z
UID:1816-1757062800-1757088000@icmec.org.au
SUMMARY:Not-for-profit Workshop 2025
DESCRIPTION:
URL:https://icmec.org.au/event/not-for-profit-workshop-2025/
ATTACH;FMTTYPE=image/png:https://icmec.org.au/wp-content/uploads/2025/07/NFP-Workshop-Banner.png
END:VEVENT
END:VCALENDAR