BEGIN:VCALENDAR
VERSION:2.0
PRODID:-//ICMEC Australia - ECPv6.15.17.1//NONSGML v1.0//EN
CALSCALE:GREGORIAN
METHOD:PUBLISH
X-ORIGINAL-URL:https://icmec.org.au
X-WR-CALDESC:Events for ICMEC Australia
REFRESH-INTERVAL;VALUE=DURATION:PT1H
X-Robots-Tag:noindex
X-PUBLISHED-TTL:PT1H
BEGIN:VTIMEZONE
TZID:Australia/Sydney
BEGIN:STANDARD
TZOFFSETFROM:+1100
TZOFFSETTO:+1000
TZNAME:AEST
DTSTART:20240406T160000
END:STANDARD
BEGIN:DAYLIGHT
TZOFFSETFROM:+1000
TZOFFSETTO:+1100
TZNAME:AEDT
DTSTART:20241005T160000
END:DAYLIGHT
BEGIN:STANDARD
TZOFFSETFROM:+1100
TZOFFSETTO:+1000
TZNAME:AEST
DTSTART:20250405T160000
END:STANDARD
BEGIN:DAYLIGHT
TZOFFSETFROM:+1000
TZOFFSETTO:+1100
TZNAME:AEDT
DTSTART:20251004T160000
END:DAYLIGHT
BEGIN:STANDARD
TZOFFSETFROM:+1100
TZOFFSETTO:+1000
TZNAME:AEST
DTSTART:20260404T160000
END:STANDARD
BEGIN:DAYLIGHT
TZOFFSETFROM:+1000
TZOFFSETTO:+1100
TZNAME:AEDT
DTSTART:20261003T160000
END:DAYLIGHT
END:VTIMEZONE
BEGIN:VEVENT
DTSTART;TZID=Australia/Sydney:20250605T123000
DTEND;TZID=Australia/Sydney:20250605T133000
DTSTAMP:20260421T003840
CREATED:20250318T022349Z
LAST-MODIFIED:20250604T055448Z
UID:1224-1749126600-1749130200@icmec.org.au
SUMMARY:Empowering every bank: Detecting and disrupting child sexual exploitation and abuse
DESCRIPTION:Webinar series \n\n\n\n\n\n\n\n\n\nAround 1 in 4 Australians have experienced sexual abuse as a child (Australian Child Maltreatment Study\, 2023) and with rapid technological advancements\, perpetrators are always finding new ways to exploit financial services to harm children. This crisis demands action\, and banks are uniquely positioned to lead the fight against child sexual exploitation and abuse (CSEA). \n\n\n\nJoin us for our new multi-part online event series\, Empowering every bank: Detecting and disrupting child sexual exploitation and abuse\, which will equip small and mid-sized banks with the knowledge and tools to prevent\, detect\, and report CSEA. These webinars aim to enhance your awareness and understanding of the crime type\, offering financially relevant insights\, case study examples\, and actionable strategies to strengthen your organisation’s response. \n\n\n\nThis series focuses on the unique challenges faced by small and mid-sized banks\, although professionals from other financial institutions are welcome to attend. Together\, we can strengthen industry efforts\, lead prevention and detection initiatives in the corporate sector\, and protect society’s most vulnerable – our children. \n\n\n\n\n\n\n\nAudience \n\n\n\nThis event series is designed for small and mid-sized banks. However\, risk managers\, compliance officers\, anti-money laundering (AML) professionals\, and key business decision makers from any financial institution are also welcome to register. \n\n\n\nIf you are unsure if these webinars are for you\, feel free to contact us at event@icmec.org.au. \n\n\n\n\n\n\n\nEvent details \n\n\n\nThis series includes three sessions held virtually via Microsoft Teams. \n\n\n\n\n\n\n\n\n\n\n\nYour Speakers  \n\n\n\nBronwyn Mead Data and Intelligence Manager\, Financial Crime and Cyber Resilience\, Customer Owned Banking Association  \n\n\n\nBronwyn has over 20 years of experience in the financial crime space.  In addition to her operational experience with fraud\, scams\, and AML/CTF in the customer-owned banking sector\, she is a Certified Fraud Examiner\, and holds a Master of Fraud & Financial Crime.  She is passionate about the value of the mutual sector\, and keen to see uplift in the industry.  \n\n\n\nHer role at COBA is in data and intelligence\, and she knows first-hand the challenges the sector faces in relation to financial crime\, legacy systems\, and capacity \n\n\n\nJessica Price Manager AML Operations\, Indue \n\n\n\nJessica Price is an experienced AML professional with over eight years in financial crime\, specialising in transaction monitoring\, investigations\, and regulatory reporting. As Manager of AML Operations at Indue Ltd\, they oversee a transaction monitoring service for multiple financial institutions\, helping clients strengthen their defences against evolving ML/TF threats.  \n\n\n\nWith a strong operational background\, they have built and trained transaction monitoring teams and understand the importance of robust processes in detecting and disrupting financial crime before it causes harm.  \n\n\n\nMark Dickson Executive Manager\, Financial Intelligence Unit \n\n\n\nMark Dickson is a financial crime risk and compliance specialist. He has worked in financial crime related roles at the Westpac Group for over 16 years and currently leads the Financial Intelligence Unit (FIU) function within Group Financial Crime.  \n\n\n\nMark is passionate about collaborating with stakeholders to lead the fight against child sexual exploitation and his teams actively partner with AUSTRAC\, the Fintel Alliance\, law enforcement and ICMEC Australia to promote child protection initiatives.  \n\n\n\nKatelyn Allen\, Manager\, Financial Crime Investigations\, NAB  \n\n\n\nKatelyn Allen is a Manager in the Financial Crime Investigations team at NAB\, focusing on high risk investigations and public-private collaboration. Katelyn has a strong passion for protecting vulnerable people and has dedicated much of her career to combatting child exploitation.  \n\n\n\nAs part of this commitment\, Katelyn has developed industry leading resources and initiatives to help the financial services industry respond more effectively to child exploitation.  \n\n\n\nAinslea Milthorpe\, Financial Crimes Team Lead\, Hume Bank  \n\n\n\nAinslea Milthorpe is the Financial Crimes Team Lead at Hume Bank\, bringing over 11 years of experience in the financial services industry\, with a specialised focus on financial crime including fraud/scams\, ML/TF and sanctions.  \n\n\n\nAinslea is passionate about protecting and educating the community and believes that collaboration through intelligence sharing and trust are the key to success in combating financial crime. \n\n\n\n \n\n\n\n\n\n\n\nRegistration \n\n\n\nRegistrations for this webinar series have now closed. \n\n\n\n\n\n\n\n\n\n\n\nFor more details on ICMEC Australia's events\, visit our industry events page below. \n\n\n\n\nICMEC AUSTRALIA'S INDUSTRY EVENTS
URL:https://icmec.org.au/event/empowering-every-bank-detecting-and-disrupting-child-sexual-exploitation-and-abuse/
ATTACH;FMTTYPE=image/png:https://icmec.org.au/wp-content/uploads/2025/03/EEB-Webinar-Series-Banner.png
END:VEVENT
END:VCALENDAR