BEGIN:VCALENDAR
VERSION:2.0
PRODID:-//ICMEC Australia - ECPv6.15.17.1//NONSGML v1.0//EN
CALSCALE:GREGORIAN
METHOD:PUBLISH
X-ORIGINAL-URL:https://icmec.org.au
X-WR-CALDESC:Events for ICMEC Australia
REFRESH-INTERVAL;VALUE=DURATION:PT1H
X-Robots-Tag:noindex
X-PUBLISHED-TTL:PT1H
BEGIN:VTIMEZONE
TZID:UTC
BEGIN:STANDARD
TZOFFSETFROM:+0000
TZOFFSETTO:+0000
TZNAME:UTC
DTSTART:20230101T000000
END:STANDARD
END:VTIMEZONE
BEGIN:VTIMEZONE
TZID:Australia/Sydney
BEGIN:STANDARD
TZOFFSETFROM:+1100
TZOFFSETTO:+1000
TZNAME:AEST
DTSTART:20230401T160000
END:STANDARD
BEGIN:DAYLIGHT
TZOFFSETFROM:+1000
TZOFFSETTO:+1100
TZNAME:AEDT
DTSTART:20230930T160000
END:DAYLIGHT
BEGIN:STANDARD
TZOFFSETFROM:+1100
TZOFFSETTO:+1000
TZNAME:AEST
DTSTART:20240406T160000
END:STANDARD
BEGIN:DAYLIGHT
TZOFFSETFROM:+1000
TZOFFSETTO:+1100
TZNAME:AEDT
DTSTART:20241005T160000
END:DAYLIGHT
BEGIN:STANDARD
TZOFFSETFROM:+1100
TZOFFSETTO:+1000
TZNAME:AEST
DTSTART:20250405T160000
END:STANDARD
BEGIN:DAYLIGHT
TZOFFSETFROM:+1000
TZOFFSETTO:+1100
TZNAME:AEDT
DTSTART:20251004T160000
END:DAYLIGHT
END:VTIMEZONE
BEGIN:VEVENT
DTSTART;TZID=UTC:20241029T090000
DTEND;TZID=UTC:20241029T170000
DTSTAMP:20260421T135809
CREATED:20240819T194049Z
LAST-MODIFIED:20241110T234342Z
UID:431-1730192400-1730221200@icmec.org.au
SUMMARY:ICMEC Australia SaferAI for Children Summit
DESCRIPTION:Be a catalyst for change by joining us at the inaugural SaferAI for Children Summit. Engage in an important conversation about the manipulation of AI to harm children and explore ways to harness this technology for good. \n\n\n\nThe International Centre for Missing and Exploited Children Australia’s inaugural SaferAI for Children Summit is a one-day event dedicated to cross-industry innovation to navigate child protection in the age of Artificial Intelligence (AI). \n\n\n\nIn today's rapidly evolving technological landscape\, staying informed is crucial for crafting effective child protection responses. Unfortunately\, the misuse of Generative AI by offenders to harm children is a growing concern. Offenders are increasingly manipulating GenAI tools to extend and amplify their abuse\, resulting in illegal and harmful material. This issue demands urgent attention and action. \n\n\n\nThis discussion must extend beyond the harms of AI. This technology also holds significant potential to enhance our ability to protect children. ICMEC Australia’s SaferAI for Children Summit will explore the opportunities AI presents for child protection and emphasise the urgency for action in this space. \n\n\n\nChild sexual abuse is undeniably one of society's most harmful crimes. It is our collective responsibility to do everything within our power to protect children from harm and prevent abuse. As the first summit of its kind in Australia\, this event will be solutions-focused\, highlighting the critical role AI plays in keeping our children safe. \n\n\n\n\n\nProgram \n\n\n\nSpeakers \n\n\n\n\n\n\n\nThis event is proudly supported by \n\n\n\n\n\n\n\n\n\n\n\n \n\n\n\nIf you are interested in becoming a supporter of this event\, please contact Dannielle Kelly\, Head of Capacity and Prevention\, at dkelly@icmec.org.au \n\n\n\n\n\n\nEvent Details\n\n\n\nDate: Tuesday 29 October 2024 \n\n\n\nTime: 8.45am - 4:00pm\, followed by networking from 4:00pm - 5:00pm \n\n\n\nThis event is free of charge\, noting the significance of this topic and ICMEC Australia's commitment to raising awareness of this critical issue. \n\n\n\n\n\n \n\n\n\nThis event will not be livestreamed. We ask that you only register if you are able to attend in-person in Sydney.  \n\n\n\nWho Should Attend?\n\n\n\nThis unique event is tailored to leaders from various sectors\, including:  \n\n\n\n\nLaw Enforcement - Gain insights into the role of other sectors to bolster investigations and results of cross-industry collaboration.\n\n\n\nArtificial Intelligence and Tech Sector - Discover how innovation and technological solutions can contribute to a safer world for children.\n\n\n\nNot-for-Profits - Connect with like-minded organisations and explore collaborative efforts.\n\n\n\nGovernment - Understand policy implications and actionable strategies for integrating AI into child protection frameworks.\n\n\n\nAcademics - Dive into the latest research and future directions in AI and child protection.\n\n\n\n\nPlease note that due to limited spaces\, registration is subject to approval. \n\n\n\nWhat's on the Agenda?\n\n\n\n\nData-driven child protection: Balancing safety and privacy\n\n\n\nAI’s influence on child sexual abuse: Victim-identification insights\n\n\n\nThe law enforcement perspective\n\n\n\nFrom policy to practice\n\n\n\nCorporate leadership & tech innovation in child protection\n\n\n\nBridging gaps and collaborating for impact\n\n\n\n\nWho's Speaking?\n\n\n\n \n\n\n\n\n\n\n\n\n\n\n\n\n\n\n\nHis Excellency\, Mr Gabriele VisentinEU Ambassador to AustraliaDelegation of the European Union to Australia \n\n\n\n\n\n\n\n\n\n\n\n\n\n\n\n\nIan McCartney APMActing CommissionerAustralian Federal Police \n\n\n\n\n\n\n\n\n\n\n\n\n\nAdèle DesirsVictim Identification AnalystArgos\, Queensland Police \n\n\n\n\n\n\n\n\n\n\n\n\n\nPaul GriffithsChild Victim Identification ManagerQueensland Police Service \n\n\n\n\n\n\n\n\n\n\n\n\n\n\n\nDr Catriona WallaceFounderResponsible Metaverse Alliance \n\n\n\n\n\n\n\n\n\n\n\n\n\nToby DaggGeneral Manager\, Regulatory OperationseSafety Commissioner \n\n\n\n\n\n\n\n\n\n\n\n\n\nAshley KatzDirector\, Child Protection International PartnershipsAttorney-General's Department \n\n\n\n\n\n\n\n\n\n\n\n\n\nJeannie PatersonCo-Director\, Centre for Artificial Intelligence and Digital EthicsUniversity of Melbourne \n\n\n\n\n\n\n\n\n\n\n\n\n\n\n\nGrace TameAdvocate and FounderGrace Tame Foundation \n\n\n\n\n\n\n\n\n\n\n\n\n\nColm GannonNon-Executive ChairICMEC Australia \n\n\n\n\n\n\n\n\n\n\n\n\n\nJon Rouse APMNon-Executive Board MemberICMEC Australia \n\n\n\n\n\n\n\n\n\n\n\n\n\nMark DicksonExecutive Manager\, Financial CrimeWestpac \n\n\n\n\n\n\n\n\n\n\n\n\n\n\n\nRyan BlackDirector of Government Affairs\, ANZMicrosoft \n\n\n\n\n\n\n\n\n\n\n\n\n\nSimon Fogarty APMSergeant\, Team Leader - Intelligence Team/Victim Identification TeamVictoria Police \n\n\n\n\n\n\n\n\n\n\n\n\n\nCampbell WilsonCo-Director\, AiLECS LabMonash University \n\n\n\n\n\n\n\n\n\n\n\n\n\nSean LittonPresident and CEOTechnology Coalition \n\n\n\n\n\n\n\n\n\n\n\n\n\n\n\nMia GarlickSenior Regional Director\, PolicyMeta \n\n\n\n\n\n\n\n\n\n\n\n\n\nDr Rebecca PortnoffVice President\, Data ScienceThorn \n\n\n\n\n\n\n\n\n\n\n\n\n\nDr Joel ScanlanSenior LecturerUniversity of Tasmania \n\n\n\n\n\n\n\n\n\n\n\n\n\nSue BradfordPartner - Audit\, Assurance & Risk Consulting\, ForensicKPMG Australia \n\n\n\n\n\n\n\n\n\n\n\n\n\n\n\nDanielle KellyHead of Capacity and PreventionICMEC Australia \n\n\n\n\n\n\n\n\n\n\n\n\n\nTimothy GoodrickDirector\, ForensicKPMG Australia \n\n\n\n\n\n\n\n\n\n\n\n\n\nRosie CampoActing CEOICMEC Australia \n\n\n\n\n\n\n\n\n\n\n\n \n\n\n\n\n\n\nRegister for the Event\n\n\n\nRegistrations for this event have now closed. \n\n\n\nPlease contact us at event@icmec.org.au for further enquiries. \n\n\n\nAbout ICMEC Australia\n\n\n\nICMEC Australia serves as a crucial advocate and resource in the fight against online child sexual exploitation (CSE). We are boldly confronting this issue when most would rather avoid it. Alongside our coalition of partners\, we strive to proactively halt and prevent its occurrence.   \n\n\n\nAt ICMEC Australia\, we're turning the use of online technology to exploit children on its head. We support frontline workers in combatting child sexual abuse by leveraging technology and data-driven strategies to detect\, report\, prosecute\, and prevent child exploitation. \n\n\n\nOur mission is clear: to support and strengthen the professionals who detect\, report\, prosecute and prevent online CSE. As an independent not-for-profit organisation\, we collaborate with various stakeholders\, such as financial services and corporate entities\, law enforcement\, policymakers\, academics\, and NGOs\, to develop strategies to protect children from harm.
URL:https://icmec.org.au/event/saferai-for-children-summit/
LOCATION:KPMG Sydney\, Level 38\, Tower 3/300 Barangaroo Avenue\, Sydney\, NSW\, 2000\, Australia
ATTACH;FMTTYPE=image/png:https://icmec.org.au/wp-content/uploads/2024/08/website-tile-936-x-468-px-1.png
END:VEVENT
BEGIN:VEVENT
DTSTART;TZID=Australia/Sydney:20241030T090000
DTEND;TZID=Australia/Sydney:20241030T170000
DTSTAMP:20260421T135809
CREATED:20240819T194049Z
LAST-MODIFIED:20241110T234318Z
UID:430-1730278800-1730307600@icmec.org.au
SUMMARY:ICMEC Australia Symposium 2024: Vigilant Disruption of Child Sexual Exploitation
DESCRIPTION:We are proud to present our second symposium event in Sydney\, the ICMEC Australia Symposium 2024: Vigilant Disruption of Child Sexual Exploitation. \n\n\n\nThis valuable in-person event is dedicated to combatting online-facilitated child sexual exploitation (CSE)\, uniting senior leaders from various sectors within the CSE response landscape. \n\n\n\nAt the forefront of discussions will be the urgent need for interdisciplinary collaboration in confronting this abhorrent crime. From organisations inadvertently entangled in CSE to those actively fighting it on the front lines\, a collective response is imperative in tackling this ever-evolving threat. \n\n\n\nThe ICMEC Australia Symposium 2024 will invite leaders from sectors such as financial services\, cryptocurrency\, travel\, telecommunications\, and ISPs to come together with law enforcement and other key stakeholders from the public sector to explore how collaboration can strengthen public-private partnerships in fighting and preventing CSE.  \n\n\n\nThe event will dive into practical knowledge attendees can leverage around identifying\, detecting\, reporting\, and preventing CSE to strengthen their organisation’s fulfilment of regulatory and social obligations. Attendees will also walk away with a better understanding of how to navigate the steps forward; equipped with tools\, resources\, and connections to bolster the whole-of-system approach that is so desperately needed to fight this silent epidemic. \n\n\n\nThe audience\n\n\n\nThe Symposium is an invite-only event. \n\n\n\nAt ICMEC Australia\, we highly value community engagement and embrace diverse perspectives. The event is designed for senior leaders in: \n\n\n\n\nCorporate - from companies that are inadvertently affected by CSE\, including\n\nFinancial crime\n\n\n\nESG (could include roles in social responsibility\, risk management\, and customer vulnerability)\n\n\n\nBroader areas of financial services\n\n\n\nCryptocurrency\n\n\n\nTravel\n\n\n\nTelecommunications and ISPs\n\n\n\n\n\nLaw enforcement (high-ranking commissioned officers and specialist command officers)\n\n\n\nRegulation\n\n\n\nAcademia\n\n\n\nGovernment\n\n\n\n\n\n\n\n\n\n\nProgram \n\n\n\nSpeakers \n\n\n\n\n\n\n\n\n\n\n\n\n\n\n\nSupporters\n\n\n\nThis event is proudly supported by the following organisations. \n\n\n\nMajor Supporter \n\n\n\n\n\n\n\n\n\n\n\nPlatinum Sponsor \n\n\n\n\n\n\n\n\n\n\n\n\n\n\n\n\n\n\n\nSupport the ICMEC Australia 2024 Symposium\n\n\n\nIf you are interested in becoming a supporter of this event\, please contact us at event@icmec.org.au. \n\n\n\n\n\nEvent details\n\n\n\nDate: Wednesday\, 30 October\, 2024 \n\n\n\nTime: 9:00am - 3:30pm Symposium\, followed by networking from 3:30pm - 5:00pm \n\n\n\n \n\n\n\n\n\nFeatured speakers\n\n\n\nMore speakers will be announced soon. \n\n\n\n\n\n\n\n\n\n\nJulie Inman GrantAustralian eSafety CommissionerOffice of the eSafety Commissioner \n\n\n\n\n\n\n\n\n\n\n\nJodie ArthurGeneral Manager of Financial CrimeWestpac and Group MLRO \n\n\n\n\n\n\n\n\n\n\n\nPaul Jevtovic APM OAMChief Financial Crime Risk & Group MLRONational Australia Bank \n\n\n\n\n\n\n\n\n\n\n\nDr James CockayneNSW Anti-slavery CommissionerNSW Department of Communities and Justice \n\n\n\n\n\n\n\n\n\n\n\n\n\n\n\n\nJohn FogartyExecutive General Manager\, Financial Crime ComplianceCommonwealth Bank of Australia (Group MLRO) \n\n\n\n\n\n\n\n\n\n\n\nSue BradfordPartner - Audit\, Assurance & Risk Consulting\, ForensicKPMG Australia \n\n\n\n\n\n\n\n\n\n\n\nChris OwenPartner\, ESG Group Chair\, National Pro Bono Team LeaderNorton Rose Fulbright \n\n\n\n\n\n\n\n\n\n\n\nToby EvansHead of Economic CrimeAustralian Payments Network \n\n\n\n\n\n\n\n\n\n\n\n\n\n\n\n\nStefanie von WestphalenHead of Financial Crime Compliance/MLROING Bank Australia \n\n\n\n\n\n\n\n\n\n\n\nJeremy MollerRisk Advisory LawyerNorton Rose Fulbright \n\n\n\n\n\n\n\n\n\n\n\nColm GannonNon-Executive ChairICMEC Australia \n\n\n\n\n\n\n\n\n\n\n\nWarren BulmerHead of Data ProductsICMEC Australia \n\n\n\n\n\n\n\n\n\n\n\n\n\nLynda McMillanHead of Payments RepresentationCommonwealth Bank of Australia \n\n\n\n\n\n\n\n\n\n\n\nTimothy GoodrickDirector\, ForensicKPMG Australia \n\n\n\n\n\n\n\n\n\n\n\nPaul GriffithsChild Victim Identification ManagerQueensland Police Service \n\n\n\n\n\n\n\n\n\n\n\nScott RalphTeam Leader\, Intelligence Fusion CellAustralian Centre to Counter Child Exploitation (ACCCE) \n\n\n\n\n\n\n\n\n\n\n\n\n\nJon Rouse APMNon-Executive Board MemberICMEC Australia \n\n\n\n\n\n\n\n\n\n\n\nDr Michael SalterDirectorChildlight UNSW \n\n\n\n\n\n\n\n\n\n\n\nChristiane Gillespie-JonesDeputy CEOCommunications Alliance \n\n\n\n\n\n\n\n\n\n\n\nScott AtkinsAustralian Chair\, Global Head of Restructuring\, Head of Risk AdvisoryNorton Rose Fulbright Australia \n\n\n\n\n\n\n\n\n\n\n\n\n\nCheryl SeetoHead of Policy\, AustraliaMeta \n\n\n\n\n\n\n\n\n\n\n\nMarcus ElwingAML ManagerSwyftx \n\n\n\n\n\n\n\n\n\n\n\nCraig RobertsonFinancial Crime and Compliance Expert (Asia Pacific)SymphonyAI \n\n\n\n\n\n\nRegister for the event\n\n\n\nRegistrations for this event have now closed. \n\n\n\nPlease contact us at event@icmec.org.au for further enquiries.
URL:https://icmec.org.au/event/icmec-australia-symposium-2024-vigilant-disruption-of-child-sexual-exploitation/
LOCATION:Norton Rose Fulbright Office\, Level 5\, 60 Martin Place\, Sydney\, NSW\, 2000\, Australia
ATTACH;FMTTYPE=image/jpeg:https://icmec.org.au/wp-content/uploads/2024/08/FSI-Symp-2024-Design-1.jpg
END:VEVENT
END:VCALENDAR