BEGIN:VCALENDAR
VERSION:2.0
PRODID:-//ICMEC Australia - ECPv6.15.17.1//NONSGML v1.0//EN
CALSCALE:GREGORIAN
METHOD:PUBLISH
X-WR-CALNAME:ICMEC Australia
X-ORIGINAL-URL:https://icmec.org.au
X-WR-CALDESC:Events for ICMEC Australia
REFRESH-INTERVAL;VALUE=DURATION:PT1H
X-Robots-Tag:noindex
X-PUBLISHED-TTL:PT1H
BEGIN:VTIMEZONE
TZID:UTC
BEGIN:STANDARD
TZOFFSETFROM:+0000
TZOFFSETTO:+0000
TZNAME:UTC
DTSTART:20220101T000000
END:STANDARD
END:VTIMEZONE
BEGIN:VEVENT
DTSTART;TZID=UTC:20230927T123000
DTEND;TZID=UTC:20230927T133000
DTSTAMP:20260422T014054
CREATED:20240819T194045Z
LAST-MODIFIED:20240828T203609Z
UID:424-1695817800-1695821400@icmec.org.au
SUMMARY:‘Follow the money’: A collaborative approach to fighting CSE
DESCRIPTION:Buy a copy of Saving Our Kids \n\n\n\n\n\nFollowing the digital footprint left by the online activity of child sexual predators is key when it comes to protecting children from technology-assisted sexual abuse. But maintaining pace with the evolving tactics of offenders takes a networked approach. \n\n\n\nUnderstanding how each organisation fits into the jigsaw puzzle that is child protection requires cross-industry collaboration. ICMEC Australia’s September Brown Bag event will feature Madonna King and Jon Rouse APM in an in-depth discussion on the importance of collaboration - especially between two key industries in the fight against CSE\, law enforcement and financial institutions. \n\n\n\nThey will discuss the important role that financial institutions play in the response to child sexual exploitation\, and how their work forms an essential part of the evidence needed to find perpetrators and\, ultimately\, their victims. \n\n\n\nUnderstanding the perspectives and challenges faced by the different frontline defenders of children being harmed is essential in the fight against this heinous crime. Jon will share his insights from three decades of experience in law enforcement\, and a deep understanding of the impact that collaboration has on bringing about better outcomes for children. \n\n\n\nA renowned Australian journalist Madonna released her latest book Saving Our Kids during National Child Protection Week. The book tells the inside story of Taskforce Argos\, a renowned Queensland Police Force investigative team dedicated to prosecuting online child sex offenders and saving children from harm. Featuring the work of many of ICMEC Australia’s staff\, Madonna emphasises the important role of financial institutions in fighting CSE\, and will elaborate on this in her discussion with Jon. \n\n\n\nThis “global humanitarian crisis” can’t be ignored and whether you work at a financial institution\, regulator\, online platform\, law enforcement agency\, or not-for-profit\, you will gain great insights from this session. \n\n\n\nJoin us online on Wednesday 27th September at 1:00pm as Madonna and Jon engage in a meaningful conversation that will help guide your work in child protection\, and ultimately to enhance the detection\, reporting\, prosecution\, and prevention of online child sexual exploitation. \n\n\n\n\n\n\n\n\n\nYour speakers\n\n\n\n\nMadonna King is one of Australia’s most accomplished journalists\, having won awards for her ABC Radio Brisbane Mornings current affairs program. She writes for publications such as Nine\, The New Daily and InQld\, regularly appears on ABC’s The Drum\, and is the author of numerous bestselling books. \n\n\n\n\n\nJon Rouse APM is one of the world’s most recognised and influential figures in the fight against child sexual exploitation. He has 39 years’ law enforcement experience with QPS\, 26 of those years spent leading Taskforce Argos. Jon joined the ICMEC Australia Board in December 2022 as part of his continued commitment to protecting and saving children from sexual exploitation and abuse. \n\n\n\n\n\n\n\n\nRegister for this event
URL:https://icmec.org.au/event/follow-the-money-a-collaborative-approach-to-fighting-cse/
LOCATION:online\, Hosted virtually by ICMEC Australia via Microsoft Teams.
ATTACH;FMTTYPE=image/jpeg:https://icmec.org.au/wp-content/uploads/2024/08/MBB6-Banner-1.jpg
END:VEVENT
BEGIN:VEVENT
DTSTART;TZID=UTC:20230817T000000
DTEND;TZID=UTC:20230817T000000
DTSTAMP:20260422T014054
CREATED:20240819T194045Z
LAST-MODIFIED:20240819T194045Z
UID:422-1692230400-1692230400@icmec.org.au
SUMMARY:Saving Our Kids: Fireside chat with Madonna King and Jon Rouse
DESCRIPTION:Join Madonna King and Jon Rouse APM in a fireside chat about how we can protect our children from sexual abuse and exploitation \n\n\n\nMadonna King's new book tells the inside story of Taskforce Argos\, the renowned Queensland Police team dedicated to prosecuting offenders of online child sexual exploitation and saving children from harm. Collaborating with Jon\, Madonna writes about their investigations\, from undercover cases to operations on a global scale. She explores what makes a victim and what makes an abuser\, and distils the work that goes into bringing down perpetrators. "Saving Our Kids" highlights the dangers lurking in every child's smartphone\, web browser\, and computer game. It is the story of the tireless work of saving children from the online manipulation that is stealing their innocence\, and raises awareness of how we can all protect the children in our lives. \n\n\n\nThis fireside chat will give deeper meaning to your work in fighting against child sexual exploitation facilitated online\, and leave you inspired by the importance of what you do on a daily basis. \n\n\n\nYour speakers\n\n\n\n\nMadonna King is one of Australia's most accomplished journalists\, having won awards for her ABC Radio Brisbane Mornings current affairs program. She writes for publications such as Nine\, Crikey and The New Daily\, and is the author of numerous bestselling books. \n\n\n\n\n\nJon Rouse is one of the world’s most recognised and influential figures in the fight against child sexual exploitation. He has 39 years’ law enforcement experience with QPS\, 26 of those years spent leading Task force Argos. Jon joined the ICMEC Australia Board in December 2022 as part of his continued commitment to protecting and saving children from sexual exploitation and abuse. \n\n\n\n\n\n\n\n\nRSVP AT YOUR EARLIEST CONVENIENCE
URL:https://icmec.org.au/event/saving-our-kids-fireside-chat-with-madonna-king-and-jon-rouse/
END:VEVENT
END:VCALENDAR