BEGIN:VCALENDAR
VERSION:2.0
PRODID:-//ICMEC Australia - ECPv6.15.17.1//NONSGML v1.0//EN
CALSCALE:GREGORIAN
METHOD:PUBLISH
X-WR-CALNAME:ICMEC Australia
X-ORIGINAL-URL:https://icmec.org.au
X-WR-CALDESC:Events for ICMEC Australia
REFRESH-INTERVAL;VALUE=DURATION:PT1H
X-Robots-Tag:noindex
X-PUBLISHED-TTL:PT1H
BEGIN:VTIMEZONE
TZID:Australia/Sydney
BEGIN:STANDARD
TZOFFSETFROM:+1100
TZOFFSETTO:+1000
TZNAME:AEST
DTSTART:20250405T160000
END:STANDARD
BEGIN:DAYLIGHT
TZOFFSETFROM:+1000
TZOFFSETTO:+1100
TZNAME:AEDT
DTSTART:20251004T160000
END:DAYLIGHT
BEGIN:STANDARD
TZOFFSETFROM:+1100
TZOFFSETTO:+1000
TZNAME:AEST
DTSTART:20260404T160000
END:STANDARD
BEGIN:DAYLIGHT
TZOFFSETFROM:+1000
TZOFFSETTO:+1100
TZNAME:AEDT
DTSTART:20261003T160000
END:DAYLIGHT
BEGIN:STANDARD
TZOFFSETFROM:+1100
TZOFFSETTO:+1000
TZNAME:AEST
DTSTART:20270403T160000
END:STANDARD
BEGIN:DAYLIGHT
TZOFFSETFROM:+1000
TZOFFSETTO:+1100
TZNAME:AEDT
DTSTART:20271002T160000
END:DAYLIGHT
END:VTIMEZONE
BEGIN:VEVENT
DTSTART;TZID=Australia/Sydney:20260429T123000
DTEND;TZID=Australia/Sydney:20260429T133000
DTSTAMP:20260420T065642
CREATED:20260401T062000Z
LAST-MODIFIED:20260401T061824Z
UID:2255-1777465800-1777469400@icmec.org.au
SUMMARY:Signals to action: Building a safety stack to disrupt child sexual exploitation and abuse 
DESCRIPTION:Our April Brown Bag builds on our upcoming Symposium theme - the evolution of a modern “safety stack” capable of preventing\, detecting\, and disrupting child sexual exploitation and abuse (CSEA) at scale. Bringing together two ICMEC Australia board members with senior experience in law enforcement and financial crime\, this session will explore how technical tools\, organisational culture and workforce capability are used to create a stronger response to fighting child sexual exploitation.  \n\n\n\nWith a particular focus on technology\, including AI‑enabled tools and digital platforms\, the conversation will explore how these capabilities can be used ethically and effectively in the fight against CSEA. The session will look at how emerging technologies are identifying risk earlier\, where their limitations lie\, and how collaboration between law enforcement and financial institutions helps ensure those signals translate into timely\, lawful disruption.  \n\n\n\nThe session will highlight real‑world lessons on ethical technology use\, cross‑sector escalation\, and what “effective disruption” looks like in practice - with a focus on preventing harm\, not just detecting or reporting it.   \n\n\n\n\n\n\n\nYour speakers \n\n\n\n\n\n\n\n\nDoug Boudry APM\, Non-Executive Director\, ICMEC Australia\n\n\n\nDoug Boudry is a consultant who specialises in the development of emerging technologies\, building strategies and helping to drive collaboration efforts across government\, academia\, private industry and the community. He has over 25 years’ law enforcement experience with the Australian Federal Police and was a recipient of the Australian Police Medal in 2024. Doug joined the ICMEC Australia Board in 2025 as part of his ongoing commitment to protecting children and ensuring a safer future for all Australians.    \n\n\n\n\n\n\n\n\n\nJohn Fogarty\, Non-Executive Director\, ICMEC Australia\n\n\n\nJohn Fogarty is a seasoned compliance executive with over 35 years’ experience across regulatory and financial crime compliance. Most recently\, he served as Executive General Manager and Group Money Laundering Reporting Officer at the Commonwealth Bank of Australia\, leading significant risk and compliance capability uplift. John held senior roles at HSBC\, CLSA\, and UBS across Australia and Asia\, and began his career as a Detective with the NSW Police Force. He is passionate about capability building and fostering the next generation of compliance professionals.  \n\n\n\n\n\n\n\n\nEvent details \n\n\n\n\n\n\n\n\n\n\n\n\n\n\n\n\n\n29 April 2026 \n\n\n\nWednesday \n\n\n\n\n\n\n\n\n\n\n\n\n\n12:30pm - 1:30pm AEST / Sydney \n\n\n\n12:30pm – 1:30pm AEST / Brisbane  \n\n\n\n12:00pm - 1:00pm ACST / Adelaide   \n\n\n\n10:30am - 11:30am AWST / Perth   \n\n\n\n\n\n\n\n\n\n\n\n\n\nOnline event \n\n\n\nvia Microsoft teams \n\n\n\n\n\n\n\n\n\n\n\n\n\nRegistration \n\n\n\nRegister for this event below \n\n\n\n \n\n \n\n\n\n\n\n\n\nFor more details on ICMEC Australia's events\, visit our industry events page below. \n\n\n\n\nICMEC AUSTRALIA'S INDUSTRY EVENTS
URL:https://icmec.org.au/event/signals-to-action-building-a-safety-stack-to-disrupt-child-sexual-exploitation-and-abuse/
ATTACH;FMTTYPE=image/jpeg:https://icmec.org.au/wp-content/uploads/2026/03/April-26-MBB-Banner-Option-1.jpg
END:VEVENT
BEGIN:VEVENT
DTSTART;TZID=Australia/Sydney:20261022T083000
DTEND;TZID=Australia/Sydney:20261022T173000
DTSTAMP:20260420T065642
CREATED:20260303T234158Z
LAST-MODIFIED:20260311T204434Z
UID:2428-1792657800-1792690200@icmec.org.au
SUMMARY:ICMEC Australia Symposium 2026: The safety stack
DESCRIPTION:
URL:https://icmec.org.au/event/icmec-australia-symposium-2026/
ATTACH;FMTTYPE=image/jpeg:https://icmec.org.au/wp-content/uploads/2026/03/Symposium-2026-Banner-560-x-180-mm-scaled.jpg
END:VEVENT
END:VCALENDAR