BEGIN:VCALENDAR
VERSION:2.0
PRODID:-//ICMEC Australia - ECPv6.15.17.1//NONSGML v1.0//EN
CALSCALE:GREGORIAN
METHOD:PUBLISH
X-WR-CALNAME:ICMEC Australia
X-ORIGINAL-URL:https://icmec.org.au
X-WR-CALDESC:Events for ICMEC Australia
REFRESH-INTERVAL;VALUE=DURATION:PT1H
X-Robots-Tag:noindex
X-PUBLISHED-TTL:PT1H
BEGIN:VTIMEZONE
TZID:Australia/Sydney
BEGIN:STANDARD
TZOFFSETFROM:+1100
TZOFFSETTO:+1000
TZNAME:AEST
DTSTART:20240406T160000
END:STANDARD
BEGIN:DAYLIGHT
TZOFFSETFROM:+1000
TZOFFSETTO:+1100
TZNAME:AEDT
DTSTART:20241005T160000
END:DAYLIGHT
BEGIN:STANDARD
TZOFFSETFROM:+1100
TZOFFSETTO:+1000
TZNAME:AEST
DTSTART:20250405T160000
END:STANDARD
BEGIN:DAYLIGHT
TZOFFSETFROM:+1000
TZOFFSETTO:+1100
TZNAME:AEDT
DTSTART:20251004T160000
END:DAYLIGHT
BEGIN:STANDARD
TZOFFSETFROM:+1100
TZOFFSETTO:+1000
TZNAME:AEST
DTSTART:20260404T160000
END:STANDARD
BEGIN:DAYLIGHT
TZOFFSETFROM:+1000
TZOFFSETTO:+1100
TZNAME:AEDT
DTSTART:20261003T160000
END:DAYLIGHT
END:VTIMEZONE
BEGIN:VEVENT
DTSTART;TZID=Australia/Sydney:20250724T123000
DTEND;TZID=Australia/Sydney:20250724T133000
DTSTAMP:20260421T003605
CREATED:20250701T034451Z
LAST-MODIFIED:20250723T071256Z
UID:1623-1753360200-1753363800@icmec.org.au
SUMMARY:The price of harm: Initial insights on the costs of OCSEA in Australia 
DESCRIPTION:Online child sexual exploitation and abuse (OCSEA) is an urgent\, national issue\, with far-reaching consequences. However\, there is a distinct lack of information on the economic toll this crime takes on society – and without this insight\, efforts to enact systemic change can be limited.  \n\n\n\nOur July Monthly Brown Bag will explore the outcomes from a first-of-its-kind Australian study into the economic and financial costs and impacts of OCSEA\, conducted through a partnership between the University of Queensland (UQ) and ICMEC Australia. Presented by Dr Jonah Rimer\, lead researcher from UQ\, the session will focus on the study’s recently completed initial phase\, which established the existing knowledge base\, and conceptualised the meaning of OCSEA costs.   \n\n\n\nJoin us to hear a summary of the identified costs\, the sectors likely to be involved\, and participate in a discussion about the next steps of the study. This is an opportunity to provide input on cross-sector efforts to progress the research agenda and identify how industry can translate the findings into meaningful\, tangible action.  \n\n\n\nTo read the full report\, visit our research page.  \n\n\n\n\n\n\n\nYour speaker \n\n\n\n\n\n\n\n\nDr Jonah Rimer is a Senior Lecturer in Criminology at the University of Queensland and Convenor of Cyber Criminology for the university’s postgraduate Cyber Security programs. He holds a Doctorate in Anthropology and a Master’s in Medical Anthropology from Oxford University\, where he was a Commonwealth Scholar. Jonah’s research areas are online sexual offending\, child abuse\, human factors in cybercrime\, social science of the internet\, childhood and youth studies\, and the justice system. He has been researching online child sexual exploitation and abuse since 2007 while in academia and the non-profit sector. For a list of publications\, see Jonah’s UQ profile.  \n\n\n\n\n\n\n\n\nEvent details \n\n\n\n\n\n\n\n\n\n\n\n\n\n\n\n\n\n24 July 2025 \n\n\n\nThursday \n\n\n\n\n\n\n\n\n\n\n\n\n\n12:30pm – 1:30pm AEST / Sydney  \n\n\n\n12:00pm - 1:00pm ACST / Adelaide time \n\n\n\n10:30am - 11:30am AWST / Perth time  \n\n\n\n\n\n\n\n\n\n\n\n\n\nOnline event \n\n\n\nvia Microsoft teams \n\n\n\n\n\n\n\n\n\n\n\n\n\nRegistration \n\n\n\nRegistrations for this event have now closed. \n\n\n\n\n\n\n\n\n\n\n\nFor more details on ICMEC Australia's events\, visit our industry events page below. \n\n\n\n\nICMEC AUSTRALIA'S INDUSTRY EVENTS
URL:https://icmec.org.au/event/the-price-of-harm-initial-insights-on-the-costs-of-ocsea-in-australia/
ATTACH;FMTTYPE=image/png:https://icmec.org.au/wp-content/uploads/2025/07/July-25-MBB-Banner-scaled.png
END:VEVENT
END:VCALENDAR