BEGIN:VCALENDAR
VERSION:2.0
PRODID:-//ICMEC Australia - ECPv6.15.17.1//NONSGML v1.0//EN
CALSCALE:GREGORIAN
METHOD:PUBLISH
X-WR-CALNAME:ICMEC Australia
X-ORIGINAL-URL:https://icmec.org.au
X-WR-CALDESC:Events for ICMEC Australia
REFRESH-INTERVAL;VALUE=DURATION:PT1H
X-Robots-Tag:noindex
X-PUBLISHED-TTL:PT1H
BEGIN:VTIMEZONE
TZID:UTC
BEGIN:STANDARD
TZOFFSETFROM:+0000
TZOFFSETTO:+0000
TZNAME:UTC
DTSTART:20230101T000000
END:STANDARD
END:VTIMEZONE
BEGIN:VEVENT
DTSTART;TZID=UTC:20240919T130000
DTEND;TZID=UTC:20240919T140000
DTSTAMP:20260421T165924
CREATED:20240904T174504Z
LAST-MODIFIED:20241111T000014Z
UID:527-1726750800-1726754400@icmec.org.au
SUMMARY:AI in the fight against child exploitation: Global perspectives and solutions
DESCRIPTION:As artificial intelligence continues to evolve\, it presents both challenges and opportunities in protecting children from exploitation. Our September Brown Bag will explore how artificial intelligence (AI) can be harnessed to enhance efforts in preventing and combatting online child sexual abuse by looking at a pioneering initiative led by the World Childhood Foundation. \n\n\n\nSusanne Drakborg from the World Childhood Foundation will provide in-depth insights into their Stella Polaris project\, which combines child rights with AI to create a coordinated\, multi-layered approach to combatting child sexual abuse. By fostering collaboration between the technology sector\, the judiciary\, and child rights organisations\, Stella Polaris aims to accelerate the development and implementation of AI solutions that can make meaningful impact in the fight against this heinous crime.  \n\n\n\nThe session will discuss the importance of a global solution to a worldwide problem as we navigate child protection in the age of AI\, what we can learn from the data-driven approaches of our international counterparts here in Australia\, and what transparency\, fairness\, and innovation looks like when using AI to bolster child protection efforts. Susanne will share insights from successful AI solutions and offer practical suggestions for how you can be a part of the fight against online child sexual abuse\, whether you work in child protection\, law enforcement\, technology\, or policy-making. \n\n\n\nYour Speaker\n\n\n\n\n\n\n\n\nSusanne Drakborg\, Senior Programs Manager at World Childhood Foundation\, works globally to prevent child sexual abuse. Susanne has led the World Childhood Foundation’s Child Safety Online program for the past 17 years\, and is the team lead for Stella Polaris – a hub exploring and supporting how Artificial Intelligence can help combat child sexual abuse. A lawyer by education and a multi-linguist\, Ms Drakborg previously worked for the United Nations on HIV and AIDS issues and on civil-military coordination on behalf of the European Commission. \n\n\n\n\n\n\n\n\nRegister for this event\n\n\n\n\n\n\n\n\n\nRegistrations for this event have now closed.
URL:https://icmec.org.au/event/ai-in-the-fight-against-child-exploitation-global-perspectives-and-solutions/
LOCATION:online\, Hosted virtually by ICMEC Australia via Microsoft Teams.
ATTACH;FMTTYPE=image/webp:https://icmec.org.au/wp-content/uploads/2024/09/MBB-September-24-Banner.webp
END:VEVENT
END:VCALENDAR