BEGIN:VCALENDAR
VERSION:2.0
PRODID:-//ICMEC Australia - ECPv6.15.17.1//NONSGML v1.0//EN
CALSCALE:GREGORIAN
METHOD:PUBLISH
X-WR-CALNAME:ICMEC Australia
X-ORIGINAL-URL:https://icmec.org.au
X-WR-CALDESC:Events for ICMEC Australia
REFRESH-INTERVAL;VALUE=DURATION:PT1H
X-Robots-Tag:noindex
X-PUBLISHED-TTL:PT1H
BEGIN:VTIMEZONE
TZID:UTC
BEGIN:STANDARD
TZOFFSETFROM:+0000
TZOFFSETTO:+0000
TZNAME:UTC
DTSTART:20230101T000000
END:STANDARD
END:VTIMEZONE
BEGIN:VEVENT
DTSTART;TZID=UTC:20240627T123000
DTEND;TZID=UTC:20240627T133000
DTSTAMP:20260421T214931
CREATED:20240819T194048Z
LAST-MODIFIED:20240828T203241Z
UID:428-1719491400-1719495000@icmec.org.au
SUMMARY:A holistic human rights approach to fighting child sexual exploitation in a financial institution
DESCRIPTION:Within financial institutions\, the financial crime team usually plays a leading role in fighting child sexual exploitation. However\, due to this crime type's complexity and ever-evolving nature\, a more holistic approach to child safeguarding and protection across financial organisations is needed. This approach creates greater meaningful change\, not just within the company\, but for the benefit of its customers and our broader society. \n\n\n\nThis month’s Brown Bag will showcase how Westpac Group has adopted a human rights lens above and beyond their financial crime work to proactively address child exploitation. Westpac’s efforts are led by a core mission to prevent exploitation from occurring in the first place. Their work focuses on strengthening human rights due diligence using a Safety by Design approach and raising awareness in collaboration with other partners and businesses. \n\n\n\nPresented by Dr Kavitha Suthanthiraraj and Natasha Menezes from Westpac Group’s Human Rights and Social Programs team\, the session will cover how Westpac used a human rights approach in designing the Safer Children\, Safer Communities program\, publishing their first Child Safeguarding Position Statement in 2021 (a first for an Australian bank)\, and how they continue to embed their child safeguarding commitments as part of their broader human rights program. \n\n\n\nPlease join us for this valuable session to hear Westpac Group share innovative strategies and tangible solutions to assist your organisation in its fight against CSE.  \n\n\n\nAbout Westpac’s Safer Children\, Safer Communities program \n\n\n\nThe Safer Children\, Safer Communities program involves a series of actions and investments designed to make a meaningful impact on child safety and protection. The program is delivered in Australia and across the Asia Pacific.  \n\n\n\nFor more information on Westpac’s Safer Children\, Safer Communities program\, please visit their website. \n\n\n\nYour Speakers\n\n\n\n\nDr Kavitha Suthanthiraraj\, Head of ESG\, Human Rights and Social Programs at Westpac\, has over 20 years of experience in strategy\, policy and sustainability roles across corporates\, international non-profits\, and academic institutions. Joining Westpac in June 2020\, Kavitha established and led the Safer Children\, Safer Communities work program\, and currently heads up a portfolio of human rights and social programs\, including modern slavery reporting. With a Doctor of Philosophy in Political Science\, Kavitha has published articles and reports across a range of human rights issues and has worked on several policy and advocacy initiatives during her career. \n\n\n\n\n\n\n\n\n\nNatasha Menezes\, Executive Manager of Social Programs at Westpac\, has over 10 years’ experience in sustainability\, human rights\, and policy areas across consulting\, corporates\, and the not-for-profit sector. In 2021\, Natasha led the development of Westpac’s Child Safeguarding Position Statement and is currently focused on driving a cross-industry child safeguarding business coalition to share Westpac’s learnings with other Australian businesses. Her career spans a range of human-rights-focused work\, climate change\, sustainability strategy\, modern slavery\, and sustainability reporting. \n\n\n\n\n\n\n\n\nRegister for this event\n\n\n\nThis session will not be recorded\, so please join us live to ensure you don’t miss out on this valuable webinar.
URL:https://icmec.org.au/event/a-holistic-human-rights-approach-to-fighting-child-sexual-exploitation-in-a-financial-institution/
LOCATION:online\, Hosted virtually by ICMEC Australia via Microsoft Teams.
ATTACH;FMTTYPE=image/jpeg:https://icmec.org.au/wp-content/uploads/2024/08/MBB-June-24-Banner-1.jpg
END:VEVENT
END:VCALENDAR