BEGIN:VCALENDAR
VERSION:2.0
PRODID:-//ICMEC Australia - ECPv6.15.17.1//NONSGML v1.0//EN
CALSCALE:GREGORIAN
METHOD:PUBLISH
X-ORIGINAL-URL:https://icmec.org.au
X-WR-CALDESC:Events for ICMEC Australia
REFRESH-INTERVAL;VALUE=DURATION:PT1H
X-Robots-Tag:noindex
X-PUBLISHED-TTL:PT1H
BEGIN:VTIMEZONE
TZID:UTC
BEGIN:STANDARD
TZOFFSETFROM:+0000
TZOFFSETTO:+0000
TZNAME:UTC
DTSTART:20230101T000000
END:STANDARD
END:VTIMEZONE
BEGIN:VEVENT
DTSTART;TZID=UTC:20240508T123000
DTEND;TZID=UTC:20240508T133000
DTSTAMP:20260421T233229
CREATED:20240819T194048Z
LAST-MODIFIED:20240828T203041Z
UID:427-1715171400-1715175000@icmec.org.au
SUMMARY:Stop It Now! Australia: The power of child sexual abuse perpetrator prevention services
DESCRIPTION:Discussions around child sexual exploitation (CSE) frequently revolve around identifying and responding to instances of abuse. However\, what can we do to prevent perpetration? \n\n\n\nIn 2023\, the University of NSW (UNSW)\, in partnership with Jesuit Social Services\, released the first national representative study\, Identifying and understanding child sexual offending behaviour and attitudes among Australian men. The study found around one in six (15.1%) Australian men reported sexual feelings towards children. Of these\, 29.6% of them wanted help for these feelings\, representing a shocking 4.5% of Australian men. \n\n\n\nThis month’s Brown Bag will focus on the importance of secondary prevention efforts in the fight to end child sexual abuse. Presented by Georgia Naldrett and Dee Nicholas from Stop It Now! Australia (an initiative of Jesuit Social Services)\, the session will provide a brief history of perpetration prevention\, findings from their 2023 perpetration prevalence study with UNSW\, and how they relate to Stop It Now!’s work. Georgia and Dee will also explore emerging trends from the perpetrator prevalence study and working with perpetrators via the Stop It Now! Australia helpline\, including what we know about their online behaviour (e.g. use of cryptocurrency\, pornography use etc.). \n\n\n\nRegistrations close on Monday\, 27th May at 12pm (AEST). \n\n\n\nAbout Stop It Now!\n\n\n\nStop it Now! is a program that offers an anonymous helpline\, chat and web resources for people concerned about their own sexual thoughts and behaviours towards children\, or for people concerned about the thoughts or behaviours of others. ICMEC Australia recently partnered with Jesuit Social Services to support the expansion and development of this prevention program in Australia. \n\n\n\nYour Speakers\n\n\n\n\nGeorgia Naldrett is the Stop It Now! Australia Manager within The Men’s Project at Jesuit Social Services. Within this role she applies her psychological and practice knowledge of sexual offending and child protection to aid in the prevention of child sexual abuse\, including leading the Stop It Now! helpline. Georgia is a psychology graduate with a BSc (hons) in Psychology and a MSc in Forensic Psychology from the UK. She has been employed in a variety of psychology roles where she developed her learning and application of rehabilitation and prevention\, including previously working at The Lucy Faithfull Foundation in the UK. \n\n\n\n\n\nDee Nicholas is the Senior Practitioner at Stop It Now! Australia\, where she uses her academic and practice experience and knowledge of offender rehabilitation and prevention to provide support\, advice and psychoeducation to prevent child sexual abuse. She holds a BSc in Psychology and a MSc in Forensic Psychology from Newcastle University\, UK. Dee has previously worked at Stop It Now! UK where she gained extensive knowledge of child protection and sexual offending\, and has worked in a variety of forensic and clinical settings. \n\n\n\n\n\n\n\n\nRegister for this event
URL:https://icmec.org.au/event/stop-it-now-australia-the-power-of-child-sexual-abuse-perpetrator-prevention-services/
LOCATION:online\, Hosted virtually by ICMEC Australia via Microsoft Teams.
ATTACH;FMTTYPE=image/jpeg:https://icmec.org.au/wp-content/uploads/2024/08/MBB-May-24-Banner.jpg
END:VEVENT
END:VCALENDAR